BEGIN:VCALENDAR
VERSION:2.0
METHOD:PUBLISH
PRODID:-//Causal Sarl//LionsBase Calendar 5.0.x-dev//DE
TZID:Europe/Zurich
BEGIN:VEVENT
UID:33673_20260421@olympiaregion-seefeld.lions.at
DTSTAMP:20260421T123408Z
DTSTART:20260421T163000Z
DTEND:20260421T180000Z
ORGANIZER:LC Olympiaregion Seefeld
LOCATION:Clublokal "Alpenlove Adult Spa Hotel" Seefeld\, Dor
 fplatz 28\, 6100 Seefeld
SUMMARY:Generalversammlung mit anschließender Clubsitzung
DESCRIPTION:
END:VEVENT
END:VCALENDAR
